BEGIN:VCALENDAR
VERSION:2.0
PRODID:-//Brainfood | Moodfood | Gehirn | Stress | Ernährung | Immunsystem | Schlaf | Hormone | BGM | Dr. Sabine Paul | Frankfurt | Vortrag | Webinar - ECPv6.15.20//NONSGML v1.0//EN
CALSCALE:GREGORIAN
METHOD:PUBLISH
X-ORIGINAL-URL:https://nerven-power.de
X-WR-CALDESC:Veranstaltungen für Brainfood | Moodfood | Gehirn | Stress | Ernährung | Immunsystem | Schlaf | Hormone | BGM | Dr. Sabine Paul | Frankfurt | Vortrag | Webinar
REFRESH-INTERVAL;VALUE=DURATION:PT1H
X-Robots-Tag:noindex
X-PUBLISHED-TTL:PT1H
BEGIN:VTIMEZONE
TZID:Europe/Berlin
BEGIN:DAYLIGHT
TZOFFSETFROM:+0100
TZOFFSETTO:+0200
TZNAME:CEST
DTSTART:20250330T010000
END:DAYLIGHT
BEGIN:STANDARD
TZOFFSETFROM:+0200
TZOFFSETTO:+0100
TZNAME:CET
DTSTART:20251026T010000
END:STANDARD
BEGIN:DAYLIGHT
TZOFFSETFROM:+0100
TZOFFSETTO:+0200
TZNAME:CEST
DTSTART:20260329T010000
END:DAYLIGHT
BEGIN:STANDARD
TZOFFSETFROM:+0200
TZOFFSETTO:+0100
TZNAME:CET
DTSTART:20261025T010000
END:STANDARD
BEGIN:DAYLIGHT
TZOFFSETFROM:+0100
TZOFFSETTO:+0200
TZNAME:CEST
DTSTART:20270328T010000
END:DAYLIGHT
BEGIN:STANDARD
TZOFFSETFROM:+0200
TZOFFSETTO:+0100
TZNAME:CET
DTSTART:20271031T010000
END:STANDARD
END:VTIMEZONE
BEGIN:VEVENT
DTSTART;TZID=Europe/Berlin:20260709T113000
DTEND;TZID=Europe/Berlin:20260709T123000
DTSTAMP:20260425T183519
CREATED:20220202T132039Z
LAST-MODIFIED:20260211T161739Z
UID:12613-1783596600-1783600200@nerven-power.de
SUMMARY:Erholsamer Schlaf mit Genuss | Webinar für Vetter Pharma-Fertigungs GmbH\, Ravensburg
DESCRIPTION:Immer mehr Menschen sind von Einschlaf- und Durchschlafproblemen betroffen und haben keinen erholsamen Schlaf. \nIn diesem Online-Vortrag erfahren Sie: \n\nWas Ihre Ernährung mit dem Einschlafen und Durchschlafen zu tun hat\n\nWie Sie Ihre Einschlaf- und Durchschlaf-Botenstoffe bilden\nWelche Taktgeber es für einen guten Schlafrhythmus gibt\nWelche Rolle die Darmbakterien bei der Schlaf-Steuerung spielen\nWelche Kräuter und Gewürze Sie gezielt bei Schlafstörungen einsetzen können\nWie Sie Ihre Schlafqualität und Schlaflänge verbessern\n\n\nPraxis-Tipps: Guter Schlaf beginnt am Tag\n\nPower-Pausen mit Genuss\nGehirnwellen-Training für schnelleres Einschlafen\nKöstliche Einschlaf-Rituale nutzen\n\n\nSchlaf-Tipps für spezielle Situationen\n\nSchichtarbeit\nWechseljahre\n\n\nNutzen Sie schon im Vortrag:\n\nSelbsttest: Wie ausgeprägt ist Ihre Schlaf-Effizienz?\nRezeptideen für schlafförderliche Speisen und Getränke\n\n\n\nAnschließend für 14 Tage nach dem Termin auf einer passwortgeschützten Seite: \n\nVideo-Aufzeichnung des Online-Vortrags\nPdf-Dateien zum Herunterladen:\nEinkaufsliste für schlafförderliche Nahrungsmittel\nRezeptsammlung: schlafförderliche Speisen und Getränke\nAnleitung für schlafförderliche Power-Pausen\nAnleitung für Gehirnwellen-Training für schnelleres Einschlafen\nAnleitung für köstliche Einschlaf-Rituale\nCheckliste: Tipps für guten Schlaf bei Schichtarbeit\, in Schwangerschaft und in den Wechseljahren\nLinks zu weiterführenden Infos\nLiteraturverzeichnis\n\nDiese Veranstaltung findet statt in Kooperation mit der Siemens-Betriebskrankenkasse (SBK).\nSie möchten diese Veranstaltung auch in Ihrem Unternehmen durchführen?\nMelden Sie sich gerne über das Kontaktformular (hier klicken) bei mir.
URL:https://nerven-power.de/event/erholsamer-schlaf-mit-genuss-webinar-fuer-vetter/
LOCATION:Online
CATEGORIES:Online-Vortrag,Webinar
ATTACH;FMTTYPE=image/png:https://nerven-power.de/wp-content/uploads/2024/09/NP_Akademie_Cover_Web_Unternehmen_Schlaf.png
END:VEVENT
END:VCALENDAR