BEGIN:VCALENDAR
VERSION:2.0
PRODID:-//Brainfood | Moodfood | Gehirn | Stress | Ernährung | Immunsystem | Schlaf | Hormone | BGM | Dr. Sabine Paul | Frankfurt | Vortrag | Webinar - ECPv6.15.20//NONSGML v1.0//EN
CALSCALE:GREGORIAN
METHOD:PUBLISH
X-ORIGINAL-URL:https://nerven-power.de
X-WR-CALDESC:Veranstaltungen für Brainfood | Moodfood | Gehirn | Stress | Ernährung | Immunsystem | Schlaf | Hormone | BGM | Dr. Sabine Paul | Frankfurt | Vortrag | Webinar
REFRESH-INTERVAL;VALUE=DURATION:PT1H
X-Robots-Tag:noindex
X-PUBLISHED-TTL:PT1H
BEGIN:VTIMEZONE
TZID:Europe/Berlin
BEGIN:DAYLIGHT
TZOFFSETFROM:+0100
TZOFFSETTO:+0200
TZNAME:CEST
DTSTART:20250330T010000
END:DAYLIGHT
BEGIN:STANDARD
TZOFFSETFROM:+0200
TZOFFSETTO:+0100
TZNAME:CET
DTSTART:20251026T010000
END:STANDARD
BEGIN:DAYLIGHT
TZOFFSETFROM:+0100
TZOFFSETTO:+0200
TZNAME:CEST
DTSTART:20260329T010000
END:DAYLIGHT
BEGIN:STANDARD
TZOFFSETFROM:+0200
TZOFFSETTO:+0100
TZNAME:CET
DTSTART:20261025T010000
END:STANDARD
BEGIN:DAYLIGHT
TZOFFSETFROM:+0100
TZOFFSETTO:+0200
TZNAME:CEST
DTSTART:20270328T010000
END:DAYLIGHT
BEGIN:STANDARD
TZOFFSETFROM:+0200
TZOFFSETTO:+0100
TZNAME:CET
DTSTART:20271031T010000
END:STANDARD
END:VTIMEZONE
BEGIN:VEVENT
DTSTART;VALUE=DATE:20260206
DTEND;VALUE=DATE:20260207
DTSTAMP:20260424T112913
CREATED:20240312T083453Z
LAST-MODIFIED:20260127T200500Z
UID:18662-1770336000-1770422399@nerven-power.de
SUMMARY:Kakao für Hirn\, Herz und Haut | Interview Onlinekongress "Pflanzenmedizin"
DESCRIPTION:Alte\, neue und wiederentdeckte Heilverfahren\, die den Alltag erleichtern und Ihre Gesundheit tiefgreifend unterstützen können werden auf diesem kostenfreien Onlinekongress vom 06.-15.02.2026 vorgestellt. \nAn Tag 1\, 06.02.2026: Interview mit Prof. Dr. Sabine Paul: „Kakao für Hirn\, Herz und Haut“.\nZum Kongressprogramm und kostenfreier Anmeldung: Hier klicken!
URL:https://nerven-power.de/event/kakao-fuer-hirn-herz-und-haut-interview-onlinekongress-pflanzenmedizin/
LOCATION:Online
CATEGORIES:Online-Kongress
ATTACH;FMTTYPE=image/jpeg:https://nerven-power.de/wp-content/uploads/2024/03/NP_Akademie_Cover_OLKo_Pflanzenmedizin_Nagel.jpg
END:VEVENT
END:VCALENDAR