BEGIN:VCALENDAR
VERSION:2.0
PRODID:-//Brainfood | Moodfood | Gehirn | Stress | Ernährung | Immunsystem | Schlaf | Hormone | BGM | Dr. Sabine Paul | Frankfurt | Vortrag | Webinar - ECPv6.15.20//NONSGML v1.0//EN
CALSCALE:GREGORIAN
METHOD:PUBLISH
X-WR-CALNAME:Brainfood | Moodfood | Gehirn | Stress | Ernährung | Immunsystem | Schlaf | Hormone | BGM | Dr. Sabine Paul | Frankfurt | Vortrag | Webinar
X-ORIGINAL-URL:https://nerven-power.de
X-WR-CALDESC:Veranstaltungen für Brainfood | Moodfood | Gehirn | Stress | Ernährung | Immunsystem | Schlaf | Hormone | BGM | Dr. Sabine Paul | Frankfurt | Vortrag | Webinar
REFRESH-INTERVAL;VALUE=DURATION:PT1H
X-Robots-Tag:noindex
X-PUBLISHED-TTL:PT1H
BEGIN:VTIMEZONE
TZID:Europe/Berlin
BEGIN:DAYLIGHT
TZOFFSETFROM:+0100
TZOFFSETTO:+0200
TZNAME:CEST
DTSTART:20230326T010000
END:DAYLIGHT
BEGIN:STANDARD
TZOFFSETFROM:+0200
TZOFFSETTO:+0100
TZNAME:CET
DTSTART:20231029T010000
END:STANDARD
BEGIN:DAYLIGHT
TZOFFSETFROM:+0100
TZOFFSETTO:+0200
TZNAME:CEST
DTSTART:20240331T010000
END:DAYLIGHT
BEGIN:STANDARD
TZOFFSETFROM:+0200
TZOFFSETTO:+0100
TZNAME:CET
DTSTART:20241027T010000
END:STANDARD
BEGIN:DAYLIGHT
TZOFFSETFROM:+0100
TZOFFSETTO:+0200
TZNAME:CEST
DTSTART:20250330T010000
END:DAYLIGHT
BEGIN:STANDARD
TZOFFSETFROM:+0200
TZOFFSETTO:+0100
TZNAME:CET
DTSTART:20251026T010000
END:STANDARD
END:VTIMEZONE
BEGIN:VTIMEZONE
TZID:UTC
BEGIN:STANDARD
TZOFFSETFROM:+0000
TZOFFSETTO:+0000
TZNAME:UTC
DTSTART:20230101T000000
END:STANDARD
END:VTIMEZONE
BEGIN:VEVENT
DTSTART;VALUE=DATE:20240707
DTEND;VALUE=DATE:20240808
DTSTAMP:20260426T033956
CREATED:20240707T091926Z
LAST-MODIFIED:20240707T091926Z
UID:19086-1720310400-1723075199@nerven-power.de
SUMMARY:Pfeffer ist ein Gehirnbooster | Interview im pfeffer-Magazin | Lesen Sie rein!
DESCRIPTION:Welche Gewürz-Tipps gibt es gegen Alltagsstress? \nWelche Gewürze sind unverzichtbar in meiner Küche? \nKerstin Rubel vom Fachverband der Gewürzindustrie e.V. interviewte mich zum Thema „Gehirndoping mit Gewürzen“ für die Ausgabe 01/2024 des Gewürz- und Kulinarikmagazins „pfeffer“. \nFoto: Chris\, www.fotolia.com \nArtikel auf der Presse-Seite lesen: hier klicken
URL:https://nerven-power.de/event/pfeffer-ist-ein-gehirnbooster-interview-im-pfeffer-magazin-lesen-sie-rein/
LOCATION:Online
ATTACH;FMTTYPE=image/jpeg:https://nerven-power.de/wp-content/uploads/2016/11/Pfefferkoerner_Muehle_Chris_Fotolia_125475541_S.jpg
END:VEVENT
BEGIN:VEVENT
DTSTART;VALUE=DATE:20240806
DTEND;VALUE=DATE:20240807
DTSTAMP:20260426T033956
CREATED:20220328T081630Z
LAST-MODIFIED:20240715T073932Z
UID:13461-1722902400-1722988799@nerven-power.de
SUMMARY:Die Bedeutung von Killerzellen bei Krebs | Interview Onlinekongress Krebstherapie
DESCRIPTION:Wertvolle Informationen rund um das Thema Krebs: Von Prävention bis biologische Krebstherapie\, Krebs als Chance für ein neues Leben voller Energie. \nDie Molekularmediziner Christina Winzig moderiert diesen kostenfreien Onlinekongress mit 30 Expertinnen und Experten\, der vom 02.-11.08.2024 stattfindet. \nAn Tag 5\, 06.08.2024\, im Interview mit Prof. Dr. Sabine Paul: „Die Bedeutung der Killerzellen bei Krebs“ \nZum Kongressprogramm und kostenfreier Anmeldung hier klicken \nZum Kongressprogramm und kostenfreier Anmeldung hier klicken
URL:https://nerven-power.de/event/die-bedeutung-von-killerzellen-bei-krebs-interview-onlinekongress-krebstherapie/
LOCATION:Online
ATTACH;FMTTYPE=image/jpeg:https://nerven-power.de/wp-content/uploads/2022/03/Krebs_Killerzellen_11221510_123rf_m.jpg
END:VEVENT
END:VCALENDAR