BEGIN:VCALENDAR
VERSION:2.0
PRODID:-//Brainfood | Moodfood | Gehirn | Stress | Ernährung | Immunsystem | Schlaf | Hormone | BGM | Dr. Sabine Paul | Frankfurt | Vortrag | Webinar - ECPv6.15.20//NONSGML v1.0//EN
CALSCALE:GREGORIAN
METHOD:PUBLISH
X-WR-CALNAME:Brainfood | Moodfood | Gehirn | Stress | Ernährung | Immunsystem | Schlaf | Hormone | BGM | Dr. Sabine Paul | Frankfurt | Vortrag | Webinar
X-ORIGINAL-URL:https://nerven-power.de
X-WR-CALDESC:Veranstaltungen für Brainfood | Moodfood | Gehirn | Stress | Ernährung | Immunsystem | Schlaf | Hormone | BGM | Dr. Sabine Paul | Frankfurt | Vortrag | Webinar
REFRESH-INTERVAL;VALUE=DURATION:PT1H
X-Robots-Tag:noindex
X-PUBLISHED-TTL:PT1H
BEGIN:VTIMEZONE
TZID:Europe/Berlin
BEGIN:DAYLIGHT
TZOFFSETFROM:+0100
TZOFFSETTO:+0200
TZNAME:CEST
DTSTART:20250330T010000
END:DAYLIGHT
BEGIN:STANDARD
TZOFFSETFROM:+0200
TZOFFSETTO:+0100
TZNAME:CET
DTSTART:20251026T010000
END:STANDARD
BEGIN:DAYLIGHT
TZOFFSETFROM:+0100
TZOFFSETTO:+0200
TZNAME:CEST
DTSTART:20260329T010000
END:DAYLIGHT
BEGIN:STANDARD
TZOFFSETFROM:+0200
TZOFFSETTO:+0100
TZNAME:CET
DTSTART:20261025T010000
END:STANDARD
BEGIN:DAYLIGHT
TZOFFSETFROM:+0100
TZOFFSETTO:+0200
TZNAME:CEST
DTSTART:20270328T010000
END:DAYLIGHT
BEGIN:STANDARD
TZOFFSETFROM:+0200
TZOFFSETTO:+0100
TZNAME:CET
DTSTART:20271031T010000
END:STANDARD
END:VTIMEZONE
BEGIN:VEVENT
DTSTART;TZID=Europe/Berlin:20260507T170000
DTEND;TZID=Europe/Berlin:20260507T180000
DTSTAMP:20260424T140942
CREATED:20210429T114947Z
LAST-MODIFIED:20260105T124420Z
UID:10481-1778173200-1778176800@nerven-power.de
SUMMARY:Trink Dich Fit: Flüssige Energie mit Kick | Webinar für Vetter Pharma-Fertigungs GmbH\, Ravensburg
DESCRIPTION:Trink Dich Fit: Flüssige Energie mit Kick! \n\nWasser: Wissenswertes zum Bedarf\, Wasserarten und wie Sie „Ihr“ Wasser finden\nGetränke am Arbeitsplatz: Passende Getränke bei sitzenden Tätigkeiten\nBrain Drinks: Energie-Kicks mit Getränken\, die die Gehirnleistung verbessern\nTrink-Tipps im Tagesrhythmus: von Morgenkick über Mittagsloch-Stopper bis Schlummertrunk\n\n\nSie möchten auch einen Online-Vortrag für Ihr Unternehmen durchführen?\nSehr gerne\, melden Sie sich einfach über das Kontaktformular (hier klicken) bei mir.
URL:https://nerven-power.de/event/trink-dich-fit-fluessige-energie-mit-kick-webinar-fuer-siemens/
LOCATION:Online
CATEGORIES:Online-Vortrag,Webinar
ATTACH;FMTTYPE=image/png:https://nerven-power.de/wp-content/uploads/2024/09/NP_Akademie_Cover_Web_Unternehmen_Trinken.png
END:VEVENT
BEGIN:VEVENT
DTSTART;TZID=Europe/Berlin:20260513T120000
DTEND;TZID=Europe/Berlin:20260513T130000
DTSTAMP:20260424T140942
CREATED:20260212T082926Z
LAST-MODIFIED:20260219T101500Z
UID:21390-1778673600-1778677200@nerven-power.de
SUMMARY:Herzgesund genießen | Webinar für Siemens AG Nord
DESCRIPTION:Das Herz\, der Motor des Körpers\, kann mit der passenden Ernährung Jahrzehnte in Bestform aktiv sein.\nIn diesem Webinar erfahren Sie auf aktuellem Forschungsstand\, welche Ernährungskomponenten dafür entscheidend sind. \nInhalt \n\nFundament der Herzgesundheit: Ernährung & Getränke\n\nDie Komponenten einer herzgesunden Ernährung\nGetränke: flüssige Herzschützer\nWürze fürs Herz: besondere Kräuter und Gewürze\n\n\nHerz-Überraschungen: Aha-Faktoren aus Ernährung und Lebensstil\n\nStolperfallen in der Ernährung und Mundhygiene\nWas der Darm mit der Herzgesundheit zu tun hat\nGenussvoll wichtige Lebensstilfaktoren integrieren: von Schlaf über Bewegung bis zur Natur\n\n\nMit Herz und Verstand: Impulse für den Berufsalltag\n\nEinfache Faustregeln für den Alltag: Umsetzung leicht gemacht\nTipps für herzfreundliche Snacks und Getränke im Büro\nKleine Herz-Routinen mit großer Wirkung: Ideen für Mini-Challenges zur wirksamen Umsetzung\n\n\n\nSie möchten auch einen Herzgesund-Online-Vortrag für Ihr Unternehmen durchführen?\nSehr gerne\, melden Sie sich einfach über das Kontaktformular (hier klicken) bei mir.
URL:https://nerven-power.de/event/herzgesund-geniessen-webinar-fuer-siemens-ag-nord/
LOCATION:Online
CATEGORIES:Online-Vortrag,Webinar
ATTACH;FMTTYPE=image/jpeg:https://nerven-power.de/wp-content/uploads/2026/02/NP_Akademie_Cover_Web_Unternehmen_Herz.jpg
END:VEVENT
BEGIN:VEVENT
DTSTART;TZID=Europe/Berlin:20260527T123000
DTEND;TZID=Europe/Berlin:20260527T131500
DTSTAMP:20260424T140942
CREATED:20250120T105453Z
LAST-MODIFIED:20260212T112916Z
UID:19919-1779885000-1779887700@nerven-power.de
SUMMARY:Blutdruck in Balance: Die Kraft der Ernährung | Webinar für Siemens Mobility GmbH\, Braunschweig
DESCRIPTION:In diesem Online-Vortrag erfahren Sie: \n\nRisiko: Wie hoch ist der Einfluss verschiedener Risikofaktoren für Bluthochdruck?\nErnährung: Die wirkungsvollsten Blutdrucksenker – von Ernährungsstilen über spezifische Gewürze bis zu Getränken\nNiedriger Blutdruck? – Köstliche Tipps für mehr Schwung in den Gefäßen
URL:https://nerven-power.de/event/blutdruck-in-balance-die-kraft-der-ernaehrung-webinar-fuer-infineon/
LOCATION:Online
CATEGORIES:Online-Vortrag,Webinar
ATTACH;FMTTYPE=image/jpeg:https://nerven-power.de/wp-content/uploads/2025/04/NP_Akademie_Cover_Web_Unternehmen_Blutdruck2.jpg
END:VEVENT
END:VCALENDAR