BEGIN:VCALENDAR
VERSION:2.0
PRODID:-//Brainfood | Moodfood | Gehirn | Stress | Ernährung | Immunsystem | Schlaf | Hormone | BGM | Dr. Sabine Paul | Frankfurt | Vortrag | Webinar - ECPv6.15.20//NONSGML v1.0//EN
CALSCALE:GREGORIAN
METHOD:PUBLISH
X-ORIGINAL-URL:https://nerven-power.de
X-WR-CALDESC:Veranstaltungen für Brainfood | Moodfood | Gehirn | Stress | Ernährung | Immunsystem | Schlaf | Hormone | BGM | Dr. Sabine Paul | Frankfurt | Vortrag | Webinar
REFRESH-INTERVAL;VALUE=DURATION:PT1H
X-Robots-Tag:noindex
X-PUBLISHED-TTL:PT1H
BEGIN:VTIMEZONE
TZID:Europe/Berlin
BEGIN:DAYLIGHT
TZOFFSETFROM:+0100
TZOFFSETTO:+0200
TZNAME:CEST
DTSTART:20250330T010000
END:DAYLIGHT
BEGIN:STANDARD
TZOFFSETFROM:+0200
TZOFFSETTO:+0100
TZNAME:CET
DTSTART:20251026T010000
END:STANDARD
BEGIN:DAYLIGHT
TZOFFSETFROM:+0100
TZOFFSETTO:+0200
TZNAME:CEST
DTSTART:20260329T010000
END:DAYLIGHT
BEGIN:STANDARD
TZOFFSETFROM:+0200
TZOFFSETTO:+0100
TZNAME:CET
DTSTART:20261025T010000
END:STANDARD
BEGIN:DAYLIGHT
TZOFFSETFROM:+0100
TZOFFSETTO:+0200
TZNAME:CEST
DTSTART:20270328T010000
END:DAYLIGHT
BEGIN:STANDARD
TZOFFSETFROM:+0200
TZOFFSETTO:+0100
TZNAME:CET
DTSTART:20271031T010000
END:STANDARD
END:VTIMEZONE
BEGIN:VEVENT
DTSTART;VALUE=DATE:20260306
DTEND;VALUE=DATE:20260307
DTSTAMP:20260424T050311
CREATED:20230613T075908Z
LAST-MODIFIED:20260211T094140Z
UID:17344-1772755200-1772841599@nerven-power.de
SUMMARY:Moodfood: Genussvolle Stimmungsbooster | Interview Onlinekongress Kräuterheilkunde
DESCRIPTION:Finden Sie heraus\, wie Kräuter und Pflanzen aus der Natur Ihre Gesundheit stärken können. \nMehr als 35 Experten-Interviews stehen auf dem kostenfreien Onlinekongress „Kräuterheilkunde“ mit der Moderatorin Ruby Nagel vom 06.-15.03.2026 zur Verfügung. \nGleich an Tag 1\, 06.03.2026 gibt es das Interview mit Dr. Sabine Paul \n„Moodfood: Genussvolle Stimmungsbooster“ zur Frage\, wie Kräuter und Gewürze zur Stimmungsaufhellung eingesetzt werden können. \nZum Programm und kostenfreier Anmeldung: Hier klicken!
URL:https://nerven-power.de/event/moodfood-genussvolle-stimmungsbooster-interview-onlinekongress-kraeuterheilkunde/
LOCATION:Online
CATEGORIES:Online-Kongress
ATTACH;FMTTYPE=image/jpeg:https://nerven-power.de/wp-content/uploads/2023/06/NP_Akademie_Cover_OLKo_Kraeuterheilkunde_Nagel_Ruby.jpg
END:VEVENT
BEGIN:VEVENT
DTSTART;TZID=Europe/Berlin:20260311T150000
DTEND;TZID=Europe/Berlin:20260311T160000
DTSTAMP:20260424T050311
CREATED:20250120T105108Z
LAST-MODIFIED:20251028T163555Z
UID:19916-1773241200-1773244800@nerven-power.de
SUMMARY:Blutdruck in Balance: Die Kraft der Ernährung | Webinar für Siemens Energy AG\, München
DESCRIPTION:In diesem Online-Vortrag erfahren Sie: \n\nRisiko: Wie hoch ist der Einfluss verschiedener Risikofaktoren für Bluthochdruck?\nErnährung: Die wirkungsvollsten Blutdrucksenker – von Ernährungsstilen über spezifische Gewürze bis zu Getränken\nNiedriger Blutdruck? – Köstliche Tipps für mehr Schwung in den Gefäßen
URL:https://nerven-power.de/event/blutdruck-in-balance-die-kraft-der-ernaehrung-webinar-fuer-siemens-ag-karlsruhe/
LOCATION:Online
CATEGORIES:Online-Vortrag,Webinar
ATTACH;FMTTYPE=image/jpeg:https://nerven-power.de/wp-content/uploads/2025/04/NP_Akademie_Cover_Web_Unternehmen_Blutdruck2.jpg
END:VEVENT
END:VCALENDAR