BEGIN:VCALENDAR
VERSION:2.0
PRODID:-//Brainfood | Moodfood | Gehirn | Stress | Ernährung | Immunsystem | Schlaf | Hormone | BGM | Dr. Sabine Paul | Frankfurt | Vortrag | Webinar - ECPv6.15.20//NONSGML v1.0//EN
CALSCALE:GREGORIAN
METHOD:PUBLISH
X-ORIGINAL-URL:https://nerven-power.de
X-WR-CALDESC:Veranstaltungen für Brainfood | Moodfood | Gehirn | Stress | Ernährung | Immunsystem | Schlaf | Hormone | BGM | Dr. Sabine Paul | Frankfurt | Vortrag | Webinar
REFRESH-INTERVAL;VALUE=DURATION:PT1H
X-Robots-Tag:noindex
X-PUBLISHED-TTL:PT1H
BEGIN:VTIMEZONE
TZID:Europe/Berlin
BEGIN:DAYLIGHT
TZOFFSETFROM:+0100
TZOFFSETTO:+0200
TZNAME:CEST
DTSTART:20240331T010000
END:DAYLIGHT
BEGIN:STANDARD
TZOFFSETFROM:+0200
TZOFFSETTO:+0100
TZNAME:CET
DTSTART:20241027T010000
END:STANDARD
BEGIN:DAYLIGHT
TZOFFSETFROM:+0100
TZOFFSETTO:+0200
TZNAME:CEST
DTSTART:20250330T010000
END:DAYLIGHT
BEGIN:STANDARD
TZOFFSETFROM:+0200
TZOFFSETTO:+0100
TZNAME:CET
DTSTART:20251026T010000
END:STANDARD
BEGIN:DAYLIGHT
TZOFFSETFROM:+0100
TZOFFSETTO:+0200
TZNAME:CEST
DTSTART:20260329T010000
END:DAYLIGHT
BEGIN:STANDARD
TZOFFSETFROM:+0200
TZOFFSETTO:+0100
TZNAME:CET
DTSTART:20261025T010000
END:STANDARD
END:VTIMEZONE
BEGIN:VEVENT
DTSTART;TZID=Europe/Berlin:20251203T100000
DTEND;TZID=Europe/Berlin:20251203T110000
DTSTAMP:20260425T015616
CREATED:20210723T102323Z
LAST-MODIFIED:20250821T113312Z
UID:11194-1764756000-1764759600@nerven-power.de
SUMMARY:Superfoods für Frauenhormone in Balance | Webinar für Rehaut Industries\, Erlangen
DESCRIPTION:Hormone außer Rand und Band – das kommt im Lauf des weiblichen Lebens immer wieder vor und stellen Frauen vor besondere Herausforderungen.\nDie Hormon-Rhythmen lassen sich aber auch nutzen für mehr Stress-Resistenz\, Energie und Körperpräsenz in Beruf und Alltag.\nBesondere Superfoods helfen dabei\, die Hormone mit Genuss in Balance zu bringen. \nErkunden Sie in diesem Online-Vortrag: \n\nwie der weibliche Hormonaushalt tickt und welche Kraft Sie daraus für Ihre körperliche und geistige Leistungsfähigkeit schöpfen können\,\nwelche Nahrungsmittel und hormonaktive Superfoods die Frauenhormone mit Genuss in Balance bringen\,\nwelche weiteren natürlichen Helfer die Hormone positiv beeinflussen\, damit Sie Stimmungsschwankungen\, Gewichtsprobleme\, Schlafstörungen\, Hitzewallungen\, Hautprobleme oder Haarausfall sanft und nachhaltig ausgleichen können.\nNutzen Sie zur direkten Umsetzung die Wohlfühl-Rezeptsammlung „Hormonbalance“ und eine Tippsammlung bei Wechseljahresbeschwerden und für hormonstrapazierte Haare und Haut.\n\nSie möchten diese Veranstaltung auch in Ihrem Unternehmen durchführen?\nMelden Sie sich gerne über das Kontaktformular bei mir.
URL:https://nerven-power.de/event/superfoods_frauenhormone_balance_rehau/
LOCATION:Online
CATEGORIES:Online-Vortrag,Webinar
ATTACH;FMTTYPE=image/png:https://nerven-power.de/wp-content/uploads/2024/09/NP_Akademie_Cover_Web_Unternehmen_Frauenhormone.png
END:VEVENT
END:VCALENDAR