BEGIN:VCALENDAR
VERSION:2.0
PRODID:-//Brainfood | Moodfood | Gehirn | Stress | Ernährung | Immunsystem | Schlaf | Hormone | BGM | Dr. Sabine Paul | Frankfurt | Vortrag | Webinar - ECPv6.15.20//NONSGML v1.0//EN
CALSCALE:GREGORIAN
METHOD:PUBLISH
X-WR-CALNAME:Brainfood | Moodfood | Gehirn | Stress | Ernährung | Immunsystem | Schlaf | Hormone | BGM | Dr. Sabine Paul | Frankfurt | Vortrag | Webinar
X-ORIGINAL-URL:https://nerven-power.de
X-WR-CALDESC:Veranstaltungen für Brainfood | Moodfood | Gehirn | Stress | Ernährung | Immunsystem | Schlaf | Hormone | BGM | Dr. Sabine Paul | Frankfurt | Vortrag | Webinar
REFRESH-INTERVAL;VALUE=DURATION:PT1H
X-Robots-Tag:noindex
X-PUBLISHED-TTL:PT1H
BEGIN:VTIMEZONE
TZID:UTC
BEGIN:STANDARD
TZOFFSETFROM:+0000
TZOFFSETTO:+0000
TZNAME:UTC
DTSTART:20250101T000000
END:STANDARD
END:VTIMEZONE
BEGIN:VTIMEZONE
TZID:Europe/Berlin
BEGIN:DAYLIGHT
TZOFFSETFROM:+0100
TZOFFSETTO:+0200
TZNAME:CEST
DTSTART:20250330T010000
END:DAYLIGHT
BEGIN:STANDARD
TZOFFSETFROM:+0200
TZOFFSETTO:+0100
TZNAME:CET
DTSTART:20251026T010000
END:STANDARD
BEGIN:DAYLIGHT
TZOFFSETFROM:+0100
TZOFFSETTO:+0200
TZNAME:CEST
DTSTART:20260329T010000
END:DAYLIGHT
BEGIN:STANDARD
TZOFFSETFROM:+0200
TZOFFSETTO:+0100
TZNAME:CET
DTSTART:20261025T010000
END:STANDARD
BEGIN:DAYLIGHT
TZOFFSETFROM:+0100
TZOFFSETTO:+0200
TZNAME:CEST
DTSTART:20270328T010000
END:DAYLIGHT
BEGIN:STANDARD
TZOFFSETFROM:+0200
TZOFFSETTO:+0100
TZNAME:CET
DTSTART:20271031T010000
END:STANDARD
END:VTIMEZONE
BEGIN:VEVENT
DTSTART;TZID=UTC:20260602T110000
DTEND;TZID=UTC:20260602T120000
DTSTAMP:20260424T222150
CREATED:20220228T142151Z
LAST-MODIFIED:20260309T092401Z
UID:13014-1780398000-1780401600@nerven-power.de
SUMMARY:Erholsamer Schlaf mit Genuss | Webinar für Landeshauptstadt Hannover
DESCRIPTION:Immer mehr Menschen sind von Einschlaf- und Durchschlafproblemen betroffen und haben keinen erholsamen Schlaf. \nIn diesem Online-Vortrag erfahren Sie: \n\nWas Ihre Ernährung mit dem Einschlafen und Durchschlafen zu tun hat\n\nWie Sie Ihre Einschlaf- und Durchschlaf-Botenstoffe bilden\nWelche Taktgeber es für einen guten Schlafrhythmus gibt\nWelche Rolle die Darmbakterien bei der Schlaf-Steuerung spielen\nWelche Kräuter und Gewürze Sie gezielt bei Schlafstörungen einsetzen können\nWie Sie Ihre Schlafqualität und Schlaflänge verbessern\n\n\nPraxis-Tipps: Guter Schlaf beginnt am Tag\n\nPower-Pausen mit Genuss\nGehirnwellen-Training für schnelleres Einschlafen\nKöstliche Einschlaf-Rituale nutzen\n\n\nSchlaf-Tipps für spezielle Situationen\n\nSchichtarbeit\nWechseljahre\n\n\nNutzen Sie schon im Vortrag:\n\nSelbsttest: Wie ausgeprägt ist Ihre Schlaf-Effizienz?\nRezeptideen für schlafförderliche Speisen und Getränke\n\n\n\nAnschließend für 14 Tage nach dem Termin auf einer passwortgeschützten Seite: \n\nVideo-Aufzeichnung des Online-Vortrags\nEinkaufsliste für schlafförderliche Nahrungsmittel (pdf-Download)\nRezeptsammlung: schlafförderliche Speisen und Getränke (pdf-Download)\nAnleitung für schlafförderliche Power-Pausen (pdf-Download)\nAnleitung für Gehirnwellen-Training für schnelleres Einschlafen (pdf-Download)\nAnleitung für köstliche Einschlaf-Rituale (pdf-Download)\nCheckliste: Tipps für guten Schlaf bei Schichtarbeit\, in Schwangerschaft und in den Wechseljahren (pdf-Download)\nLinks zu weiterführenden Infos\nLiteraturverzeichnis\n\nSie möchten diese Veranstaltung auch in Ihrem Unternehmen durchführen?\nMelden Sie sich gerne über das Kontaktformular (hier klicken) bei mir.
URL:https://nerven-power.de/event/erholsamer-schlaf-mit-genuss-webinar-fuer-hannover/
LOCATION:Online
CATEGORIES:Online-Vortrag,Webinar
ATTACH;FMTTYPE=image/png:https://nerven-power.de/wp-content/uploads/2024/09/NP_Akademie_Cover_Web_Unternehmen_Schlaf.png
END:VEVENT
BEGIN:VEVENT
DTSTART;TZID=Europe/Berlin:20260609T140000
DTEND;TZID=Europe/Berlin:20260609T150000
DTSTAMP:20260424T222150
CREATED:20230125T084121Z
LAST-MODIFIED:20260416T084153Z
UID:16262-1781013600-1781017200@nerven-power.de
SUMMARY:Blutzucker in Balance | Webinar für LBBW\, Stuttgart
DESCRIPTION:In diesem Vortrag erfahren Sie: \n\nwie Nahrung und Lebensstil den Blutzucker beeinflussen\nwelche Zutaten\, Gerichte und Getränke den „Blutzucker in Balance“ bringen – und auch kohlenhydratreiche Mahlzeiten verträglich machen\nwelche Zuckeraustauschstoffe sinnvoll sind – und welche nichtmMit welchen Küchentricks Sie aus Nahrungsmitteln mit hohem Kohlenhydratanteil „LowCarb“-Nahrungsmittel machen (ohne Austauschstoffe)\nwie Sie beim Einkauf Snacks erkennen\, die den Blutzucker stabil halten\nob und wie sich auch ein manifester Diabetes wieder normalisieren kann\n\nNach dem Vortrag: \n\ndie Vortrags-Aufzeichnung steht 14 Tage zur Verfügung\nzum Herunterladen:\n\n\n\n\nCheckliste der Zucker-Tipps und Tricks mit den Zutaten\, Getränken und Maßnahmen\, die den Blutzucker in Balance bringen\nkleine Rezeptsammlung mit schnellen\, köstlichen\, blutzuckerstabilisierenden Snacks\, Gerichten und Getränken\n\n\nweitere Link-Tipps zum Vertiefen\, Nachlesen und für passende Einkaufsquellen\n\nSie haben auch Interesse an einem solchen Unternehmensvortrag? Dann nehmen Sie gerne Kontakt mit mir auf (hier klicken).
URL:https://nerven-power.de/event/blutzucker-in-balance_siemens_west/
LOCATION:Online
CATEGORIES:Online-Vortrag,Webinar
ATTACH;FMTTYPE=image/png:https://nerven-power.de/wp-content/uploads/2024/09/NP_Akademie_Cover_Web_Unternehmen_Blutzucker.png
END:VEVENT
BEGIN:VEVENT
DTSTART;TZID=Europe/Berlin:20260611T130000
DTEND;TZID=Europe/Berlin:20260611T140000
DTSTAMP:20260424T222150
CREATED:20260121T133604Z
LAST-MODIFIED:20260121T133604Z
UID:21320-1781182800-1781186400@nerven-power.de
SUMMARY:Endometriose und Ernährung | Webinar für Paul Hartmann AG\, Heidenheim
DESCRIPTION:Inhalte des Vortrags \n\nSteckbrief Endometriose\nWas ist Endometriose und wie sieht das Symptomspektrum aus?\nErnährung als Schlüssel zum Wohlbefinden bei Endometriose\nNährstoffe als Bausteine für Hormone und Regulatoren der Immunbalance; Risikofaktoren im Check; Präventionsstrategien\nGezielte Linderung von Symptomen durch Lebensmittel\nNatürliche Entzündungshemmer; Strategisches Weglassen verschiedener Nahrungsmittel; Einordnung über noch unklare Effekte\nAdaptogene & Hormon-Störer: Balance für das Hormonsystem\nPflanzliche Helfer; Vermeidung endokriner Disruptoren (Hormonbalance-Störer) in Küche und Kosmetik\nPraxis-Tipps & Kulinarische Inspirationen\nSicherer Einkauf; plastikfreie Küche; Rezept-Ideen; Quick-Check\n\nSie möchten auch einen ImmunPower-Online-Vortrag für Ihr Unternehmen durchführen?\nSehr gerne\, melden Sie sich einfach über das Kontaktformular (hier klicken) bei mir.
URL:https://nerven-power.de/event/endometriose-und-ernaehrung-webinar-fuer-paul-hartmann-ag-heidenheim/
LOCATION:Online
CATEGORIES:Online-Vortrag,Webinar
ATTACH;FMTTYPE=image/jpeg:https://nerven-power.de/wp-content/uploads/2026/01/NP_Akademie_Cover_Web_Unternehmen_Endometriose.jpg
END:VEVENT
END:VCALENDAR